BEGIN:VCALENDAR
VERSION:2.0
PRODID:-//eventon.com NONSGML v1.0//EN
CALSCALE:GREGORIAN
METHOD:PUBLISH
BEGIN:VEVENT
UID:69e4dfe67c78e
DTSTAMP:20260419T140006Z
DTSTART:20240429T220000Z
DTEND:20240430T205000Z
LOCATION:
SUMMARY:HUGO
DESCRIPTION:\nhttps://www.pikkupassi.fi/events/hugo/
URL:https://www.pikkupassi.fi/events/hugo/
END:VEVENT
END:VCALENDAR