BEGIN:VCALENDAR
VERSION:2.0
PRODID:-//eventon.com NONSGML v1.0//EN
CALSCALE:GREGORIAN
METHOD:PUBLISH
BEGIN:VEVENT
UID:69ecf058b5101
DTSTAMP:20260425T164824Z
DTSTART:20240323T200000Z
DTEND:20240323T215000Z
LOCATION:
SUMMARY:Miljoonasade DUO
DESCRIPTION:\nhttps://www.pikkupassi.fi/events/miljoonasade-duo/
URL:https://www.pikkupassi.fi/events/miljoonasade-duo/
END:VEVENT
END:VCALENDAR