BEGIN:VCALENDAR
VERSION:2.0
PRODID:-//eventon.com NONSGML v1.0//EN
CALSCALE:GREGORIAN
METHOD:PUBLISH
BEGIN:VEVENT
UID:69eced61c47a1
DTSTAMP:20260425T163545Z
DTSTART:20240301T200000Z
DTEND:20240301T215000Z
LOCATION:
SUMMARY:pehmoaino
DESCRIPTION:\nhttps://www.pikkupassi.fi/events/pehmoaino/
URL:https://www.pikkupassi.fi/events/pehmoaino/
END:VEVENT
END:VCALENDAR